BEGIN:VCALENDAR
VERSION:2.0
PRODID:-//Artforms Leeds - ECPv6.15.20//NONSGML v1.0//EN
CALSCALE:GREGORIAN
METHOD:PUBLISH
X-WR-CALNAME:Artforms Leeds
X-ORIGINAL-URL:https://artformsleeds.co.uk
X-WR-CALDESC:Events for Artforms Leeds
REFRESH-INTERVAL;VALUE=DURATION:PT1H
X-Robots-Tag:noindex
X-PUBLISHED-TTL:PT1H
BEGIN:VTIMEZONE
TZID:Europe/London
BEGIN:DAYLIGHT
TZOFFSETFROM:+0000
TZOFFSETTO:+0100
TZNAME:BST
DTSTART:20250330T010000
END:DAYLIGHT
BEGIN:STANDARD
TZOFFSETFROM:+0100
TZOFFSETTO:+0000
TZNAME:GMT
DTSTART:20251026T010000
END:STANDARD
BEGIN:DAYLIGHT
TZOFFSETFROM:+0000
TZOFFSETTO:+0100
TZNAME:BST
DTSTART:20260329T010000
END:DAYLIGHT
BEGIN:STANDARD
TZOFFSETFROM:+0100
TZOFFSETTO:+0000
TZNAME:GMT
DTSTART:20261025T010000
END:STANDARD
BEGIN:DAYLIGHT
TZOFFSETFROM:+0000
TZOFFSETTO:+0100
TZNAME:BST
DTSTART:20270328T010000
END:DAYLIGHT
BEGIN:STANDARD
TZOFFSETFROM:+0100
TZOFFSETTO:+0000
TZNAME:GMT
DTSTART:20271031T010000
END:STANDARD
END:VTIMEZONE
BEGIN:VEVENT
DTSTART;TZID=Europe/London:20260606T090000
DTEND;TZID=Europe/London:20260606T170000
DTSTAMP:20260423T010648
CREATED:20250930T105041Z
LAST-MODIFIED:20260421T153743Z
UID:20547-1780736400-1780765200@artformsleeds.co.uk
SUMMARY:City of Leeds Youth Orchestra and City of Leeds Youth Wind Orchestra auditions
DESCRIPTION:We are delighted to share with you that applications are now open for the auditions for all instruments for the City of Leeds Youth Orchestra and the City of Leeds Youth Wind Orchestra for September 2026. Auditions will take place on Saturday 6th and Sunday 7th June 2026 at Music House\, St. Mark’s House\, 1 St. Mark’s Avenue\, Woodhouse\, Leeds\, LS2 9BN. \nMany people who join CLYO and CLYWO do so because of what they have heard about the groups from our current members\, so please do share this with anyone you know who may be interested\, as well as with your instrumental teachers. (Generally\, you must be approximately grade 6 and above). \nThe auditions are open to all secondary students aged between 11) and 18 years old (You must be at or starting secondary school in September 2026) \nThe online application form can be found here (google form). Closing date 5pm Friday 15th May 2026. \nhttps://forms.gle/ZCfz4faSafFyA6Jc9 \nPlease find attached more information about the format of the auditions\, however if you have any other questions please don’t hesitate to get in touch. \nhttps://artformsleeds.co.uk/wp-content/uploads/2026/03/Audition-Information-Sheet-2026-27.pdf
URL:https://artformsleeds.co.uk/event/clyo-and-clywo-auditions-2/
LOCATION:Music House
CATEGORIES:City of Leeds Youth Music,Music
ATTACH;FMTTYPE=image/png:https://artformsleeds.co.uk/wp-content/uploads/2025/12/CLYM-Auditions-2026-For-Website.png
END:VEVENT
BEGIN:VEVENT
DTSTART;VALUE=DATE:20260620
DTEND;VALUE=DATE:20260621
DTSTAMP:20260423T010648
CREATED:20250930T105724Z
LAST-MODIFIED:20251001T100406Z
UID:20553-1781913600-1781999999@artformsleeds.co.uk
SUMMARY:North Leeds Music Centre Summer Festival
DESCRIPTION:
URL:https://artformsleeds.co.uk/event/nlmc-summer-festival/
LOCATION:North Leeds Music Centre\, Guiseley Music Centre
ATTACH;FMTTYPE=image/png:https://artformsleeds.co.uk/wp-content/uploads/2025/09/Holding-image.png
END:VEVENT
BEGIN:VEVENT
DTSTART;VALUE=DATE:20260627
DTEND;VALUE=DATE:20260628
DTSTAMP:20260423T010648
CREATED:20250930T110216Z
LAST-MODIFIED:20260303T160737Z
UID:20557-1782518400-1782604799@artformsleeds.co.uk
SUMMARY:City of Leeds Youth Wind Orchestra concert
DESCRIPTION:£7 adult (including booking fee). \nU18s free \n\n \nAlternatively\, click here to purchase your tickets \nhttps://www.ticketsource.co.uk/artforms-music-service/city-of-leeds-youth-wind-orchestra-concert-27-june-2026/2026-06-27/19:00/t-ldknpqj
URL:https://artformsleeds.co.uk/event/clywo-concert-3/
LOCATION:York St. John University Creative Arts Auditorium
ATTACH;FMTTYPE=image/png:https://artformsleeds.co.uk/wp-content/uploads/2024/12/CLYM-Thumbnail.png
END:VEVENT
END:VCALENDAR