BEGIN:VCALENDAR
VERSION:2.0
PRODID:-//Artforms Leeds - ECPv6.15.20//NONSGML v1.0//EN
CALSCALE:GREGORIAN
METHOD:PUBLISH
X-ORIGINAL-URL:https://artformsleeds.co.uk
X-WR-CALDESC:Events for Artforms Leeds
REFRESH-INTERVAL;VALUE=DURATION:PT1H
X-Robots-Tag:noindex
X-PUBLISHED-TTL:PT1H
BEGIN:VTIMEZONE
TZID:Europe/London
BEGIN:DAYLIGHT
TZOFFSETFROM:+0000
TZOFFSETTO:+0100
TZNAME:BST
DTSTART:20250330T010000
END:DAYLIGHT
BEGIN:STANDARD
TZOFFSETFROM:+0100
TZOFFSETTO:+0000
TZNAME:GMT
DTSTART:20251026T010000
END:STANDARD
BEGIN:DAYLIGHT
TZOFFSETFROM:+0000
TZOFFSETTO:+0100
TZNAME:BST
DTSTART:20260329T010000
END:DAYLIGHT
BEGIN:STANDARD
TZOFFSETFROM:+0100
TZOFFSETTO:+0000
TZNAME:GMT
DTSTART:20261025T010000
END:STANDARD
BEGIN:DAYLIGHT
TZOFFSETFROM:+0000
TZOFFSETTO:+0100
TZNAME:BST
DTSTART:20270328T010000
END:DAYLIGHT
BEGIN:STANDARD
TZOFFSETFROM:+0100
TZOFFSETTO:+0000
TZNAME:GMT
DTSTART:20271031T010000
END:STANDARD
END:VTIMEZONE
BEGIN:VEVENT
DTSTART;TZID=Europe/London:20260206T090000
DTEND;TZID=Europe/London:20260206T150000
DTSTAMP:20260424T162546
CREATED:20250904T095755Z
LAST-MODIFIED:20250904T095755Z
UID:20321-1770368400-1770390000@artformsleeds.co.uk
SUMMARY:Music Subject Leader Development Meeting Session 2
DESCRIPTION:The Leading Learning Partnership’s subject leader development meetings (SLDMs)\, now working in collaboration with West Yorkshire Music Hub and ArtForms\, support outstanding curriculum leadership. \nSession details \nDate: 6th February 2026 \nDay: Friday \nTime: 09:00 – 15:00 \nVenue: TBC \nCourse Code: SLDM2
URL:https://artformsleeds.co.uk/event/music-subject-leader-development-meeting-session-2-2/
CATEGORIES:Music,Music Connect
ATTACH;FMTTYPE=image/png:https://artformsleeds.co.uk/wp-content/uploads/2025/09/Holding-image.png
END:VEVENT
BEGIN:VEVENT
DTSTART;TZID=Europe/London:20260209T160000
DTEND;TZID=Europe/London:20260209T171500
DTSTAMP:20260424T162546
CREATED:20250904T094148Z
LAST-MODIFIED:20250904T094148Z
UID:20313-1770652800-1770657300@artformsleeds.co.uk
SUMMARY:Primary Music Leaders Network Session 2
DESCRIPTION:The second of three sessions offering curriculum support\, practical music-making and sharing best practice. All Primary Music Leaders are very welcome! \nSession details \nDate: 9th February 2026 \nDay: Monday \nTime: 16:00 – 17:15 \nVenue: Microsoft Teams \nCourse code: PMLN2 \nFor more information and to sign up for this event\, go to https://www.leedsforlearning.co.uk/Event/277900
URL:https://artformsleeds.co.uk/event/primary-music-leaders-network-session-2-3/
CATEGORIES:Music,Music Connect
ATTACH;FMTTYPE=image/png:https://artformsleeds.co.uk/wp-content/uploads/2025/09/Holding-image.png
END:VEVENT
BEGIN:VEVENT
DTSTART;TZID=Europe/London:20260214T100000
DTEND;TZID=Europe/London:20260214T160000
DTSTAMP:20260424T162546
CREATED:20250930T100703Z
LAST-MODIFIED:20260130T114401Z
UID:20524-1771063200-1771084800@artformsleeds.co.uk
SUMMARY:Orchestral Play Day
DESCRIPTION:🎻 North Leeds Music Centre’s Orchestral Playday – February 2026 🎻 \nJoin us for the @northleedsmusic annual Orchestral Playday this February! A fun and relaxed day of orchestral playing\, focusing on Muzio Clementi’s Symphony No. 4 in D major. \nOpen to players of approximately Grade 5 standard and above — all welcome! \n🎵 Date: Saturday 14th February 2026\n🎶 Time: 10am–4pm\n🎵 Venue: Harehills Lane Baptist Church\, 13 Hilton Place\, Leeds\, LS8 4HE\n🎶 Cost: £10 adults | Under 18s free (cash on the day) \n👉 To sign-up\, please complete this form – https://forms.gle/9vsm4x8DFiYuBbVj6 \nPlease bring a music stand and your own lunch. Light refreshments will be provided.
URL:https://artformsleeds.co.uk/event/orchestral-play-day/
LOCATION:Harehills Lane Baptist Church\, 13 Hilton Place\, Leeds\, LS8 4HF
ATTACH;FMTTYPE=image/png:https://artformsleeds.co.uk/wp-content/uploads/2025/09/NLMC-Play-Day-14.02.26.png
ORGANIZER;CN="North Leeds Music Centre":MAILTO:William.Fletcher@leeds.gov.uk
END:VEVENT
END:VCALENDAR